BEGIN:VCALENDAR
VERSION:2.0
PRODID:http://www.pfarrei-brohltal.de
BEGIN:VEVENT
UID:58e7e9b8-4054-11f1-a3e9-0242ac11002b-1785657600000-de
DTSTAMP:20260425T031043Z
DTSTART:20260802T080000Z
DTEND:20260802T084500Z
SUMMARY;LANGUAGE=de:hl. Messe zur 800 Jahrfeier u. Pfarrbezirksfest mitgestaltet vom Kirchenchor Löhndorf
END:VEVENT
END:VCALENDAR
