BEGIN:VCALENDAR
VERSION:2.0
PRODID:http://www.pfarrei-brohltal.de
BEGIN:VEVENT
UID:4a42a9fe-03db-11f1-8342-0242ac11002b-1779008400000-de
DTSTAMP:20260207T041300Z
DTSTART:20260517T090000Z
DTEND:20260517T094500Z
SUMMARY;LANGUAGE=de:hl. Messe mit Kinderkirche anschl. Autosegnung auf dem Marktplatz
END:VEVENT
END:VCALENDAR
