BEGIN:VCALENDAR
VERSION:2.0
PRODID:http://www.pfarrei-brohltal.de
BEGIN:VEVENT
UID:45ac329d-3df9-11f1-a3e9-0242ac11002b-1785429000000-de
DTSTAMP:20260422T031345Z
DTSTART:20260730T163000Z
DTEND:20260730T170000Z
SUMMARY;LANGUAGE=de:Andacht
URL:http://www.pfarrei-brohltal.de/aktuelles/gottesdienste/gottesdienst/Andacht-2026.07.30/
END:VEVENT
END:VCALENDAR
