BEGIN:VCALENDAR
VERSION:2.0
PRODID:http://www.pfarrei-brohltal.de
BEGIN:VEVENT
UID:3eb8bad0-0e12-11f1-8342-0242ac11002b-1780153200000-de
DTSTAMP:20260220T041134Z
DTSTART:20260530T150000Z
DTEND:20260530T155000Z
SUMMARY;LANGUAGE=de:hl. Messe zur Firmung mitgestaltet vom Gospelchor Burgbrohl
END:VEVENT
END:VCALENDAR
